BEGIN:VCALENDAR
VERSION:2.0
PRODID:-//dhtmlXScheduler//NONSGML v2.2//EN
X-WR-CALNAME:Wydarzenia
BEGIN:VEVENT
DTSTART:20241210T180000
DTEND:20241210T193000
UID:1
SUMMARY:Dr Artur Bartoszewicz w Białymstoku
END:VEVENT
END:VCALENDAR