BEGIN:VCALENDAR
VERSION:2.0
PRODID:-//dhtmlXScheduler//NONSGML v2.2//EN
X-WR-CALNAME:Wydarzenia
BEGIN:VEVENT
DTSTART:20210609T000000
DTEND:20210609T000000
UID:1
SUMMARY:III Seminarium Prawne dla Biznesu „Własność intelektualna jako narzędzie przewagi rynkowej przedsiębiorcy”
END:VEVENT
END:VCALENDAR