BEGIN:VCALENDAR
VERSION:2.0
PRODID:-//dhtmlXScheduler//NONSGML v2.2//EN
X-WR-CALNAME:Wydarzenia
BEGIN:VEVENT
DTSTART:20211026T000000
DTEND:20211026T000000
UID:1
SUMMARY:IV Seminarium Prawne dla Biznesu „Zatrudnianie cudzoziemców w Polsce - wybrane aspekty prawne i praktyczne”
END:VEVENT
END:VCALENDAR