BEGIN:VCALENDAR
VERSION:2.0
PRODID:-//dhtmlXScheduler//NONSGML v2.2//EN
X-WR-CALNAME:Wydarzenia
BEGIN:VEVENT
DTSTART:20220511T000000
DTEND:20220511T000000
UID:1
SUMMARY:Prawo do broni w Polsce
END:VEVENT
END:VCALENDAR