BEGIN:VCALENDAR
VERSION:2.0
PRODID:-//dhtmlXScheduler//NONSGML v2.2//EN
X-WR-CALNAME:Wydarzenia
BEGIN:VEVENT
DTSTART:20260508T100000
DTEND:20260508T120000
UID:1
SUMMARY:Seminarium naukowe „Wykonywanie kar – współczesne wyzwania systemów penitencjarnych (Rethinking Penal Enforcement – Modern Challenges for Prison Systems)” (8 maja 2026 r.)
END:VEVENT
END:VCALENDAR