BEGIN:VCALENDAR
VERSION:2.0
PRODID:-//dhtmlXScheduler//NONSGML v2.2//EN
X-WR-CALNAME:Wydarzenia
BEGIN:VEVENT
DTSTART:20260421T103000
DTEND:20260421T120000
UID:1
SUMMARY:Spotkanie studentów Wydziału Prawa UwB z przedstawicielami Komendy Stołecznej Policji już w ten wtorek na auli!
END:VEVENT
END:VCALENDAR