BEGIN:VCALENDAR
VERSION:2.0
PRODID:-//dhtmlXScheduler//NONSGML v2.2//EN
X-WR-CALNAME:Wydarzenia
BEGIN:VEVENT
DTSTART:20251217T120000
DTEND:20251217T000000
UID:1
SUMMARY:Szkolenie z zakresu ochrony ludności i obrony cywilnej dla kadry zarządzającej Uniwersytetu w Białymstoku
END:VEVENT
END:VCALENDAR